BEGIN:VCALENDAR
PRODID:NingEventWidget-v1
VERSION:2.0
METHOD:PUBLISH
BEGIN:VTIMEZONE
TZID:America/Detroit
X-LIC-LOCATION:America/Detroit
BEGIN:DAYLIGHT
TZOFFSETFROM:-0500
TZOFFSETTO:-0400
TZNAME:EDT
DTSTART:19700308T020000
RRULE:FREQ=YEARLY;BYMONTH=3;BYDAY=2SU
END:DAYLIGHT
BEGIN:STANDARD
TZOFFSETFROM:-0400
TZOFFSETTO:-0500
TZNAME:EST
DTSTART:19701101T020000
RRULE:FREQ=YEARLY;BYMONTH=11;BYDAY=1SU
END:STANDARD
END:VTIMEZONE
BEGIN:VEVENT
UID:1773158:Event:94547
DTSTAMP:20260424T234555Z
SUMMARY:Kess
DESCRIPTION:My first REAL dressage competition. I'm showing bronze lev
 el with Oliver.(AKA my boyfriend.HeHe)\n\nFor more information visit h
 ttp://www.barnmice.com/events/1773158:Event:94547
DTSTART;TZID=America/Detroit:20090426T000000
DTEND;TZID=America/Detroit:20090426T235900
CATEGORIES:showing
LOCATION:Spiritwood
WEBSITE:
URL:
CONTACT:
ORGANIZER:Spiritwood
ATTACH;FMTTYPE="image/jpeg":
ATTENDEE;ROLE=REQ-PARTICIPANT;PARTSTAT=ACCEPTED;RSVP=TRUE;CN="Kess Paq
 uette":http://www.barnmice.com/profile/KessPaquette
END:VEVENT
END:VCALENDAR
