BEGIN:VCALENDAR
PRODID:NingEventWidget-v1
VERSION:2.0
METHOD:PUBLISH
BEGIN:VTIMEZONE
TZID:America/Detroit
X-LIC-LOCATION:America/Detroit
BEGIN:DAYLIGHT
TZOFFSETFROM:-0500
TZOFFSETTO:-0400
TZNAME:EDT
DTSTART:19700308T020000
RRULE:FREQ=YEARLY;BYMONTH=3;BYDAY=2SU
END:DAYLIGHT
BEGIN:STANDARD
TZOFFSETFROM:-0400
TZOFFSETTO:-0500
TZNAME:EST
DTSTART:19701101T020000
RRULE:FREQ=YEARLY;BYMONTH=11;BYDAY=1SU
END:STANDARD
END:VTIMEZONE
BEGIN:VEVENT
UID:1773158:Event:269384
DTSTAMP:20260425T141604Z
SUMMARY:2010 KWPN-NA Keuring Hosted by Prima Equestrian
DESCRIPTION:KWPN horses are Dutch warmbloods that are bred to perform 
 with extraordinary athleticism at the top echelons of equine sports bu
 t have temperaments and trainability for amateurs.\n\nPrima Equestrian
  is hosting the KWPN North American Keuring on Tuesday August 31st , a
 n event that gives any one interested in learning more about the breed
  a golden opportunity to observe.\n\nIt includes inspections of young 
 stock including foals, yearlings and 2-year-olds, mares and geldings u
 nder 3-years-old, and stallions.\n\nThe under saddle classes include Y
 oung Dressage and Jumper horses.\n\nThe horses being presented are fro
 m KWPN sires such as; Chin Chin, Flemmingh, Gregor, Idocus, Indoctro, 
 Indorado, Johnson, Orame, Prestige, Rousseau, Tenerife, Veron, and man
 y more.\n\nThere will also be horses offered for sale.\n\nThe keuring 
 starts at 9:00AM and is open to the public at no charge and refreshmen
 ts are available.\n\nFor directions visit: www.primaequestrian.com\n\n
 For more information visit http://www.barnmice.com/events/2010-kwpnna-
 keuring-hosted-by
DTSTART;TZID=America/Detroit:20100831T090000
DTEND;TZID=America/Detroit:20100831T180000
CATEGORIES:keuring
LOCATION:Prima Equestrian
WEBSITE:
URL:
CONTACT:
ORGANIZER;CN="Cheryl Mayberry":http://www.barnmice.com/profile/CherylM
 ayberry
ATTACH;FMTTYPE="image/jpeg":
ATTENDEE;ROLE=REQ-PARTICIPANT;PARTSTAT=ACCEPTED;RSVP=TRUE;CN="Cheryl M
 ayberry":http://www.barnmice.com/profile/CherylMayberry
END:VEVENT
END:VCALENDAR
