BEGIN:VCALENDAR
PRODID:NingEventWidget-v1
VERSION:2.0
METHOD:PUBLISH
BEGIN:VTIMEZONE
TZID:America/Detroit
X-LIC-LOCATION:America/Detroit
BEGIN:DAYLIGHT
TZOFFSETFROM:-0500
TZOFFSETTO:-0400
TZNAME:EDT
DTSTART:19700308T020000
RRULE:FREQ=YEARLY;BYMONTH=3;BYDAY=2SU
END:DAYLIGHT
BEGIN:STANDARD
TZOFFSETFROM:-0400
TZOFFSETTO:-0500
TZNAME:EST
DTSTART:19701101T020000
RRULE:FREQ=YEARLY;BYMONTH=11;BYDAY=1SU
END:STANDARD
END:VTIMEZONE
BEGIN:VEVENT
UID:1773158:Event:67646
DTSTAMP:20260425T155349Z
SUMMARY:Can Am All Breeds Equine Emporium
DESCRIPTION:Plan to attend the 7th Annual \"Can-Am All Breeds Equine E
 mporium\" from Friday March 20th to Sunday March 22nd, 2009 at the Wes
 tern Fair Agriplex in London, Ontario. The All Breeds Equine Emporium 
 is Canada's largest equine education/recognition event. If you are inv
 olved in the Horse Industry in any way this is a must for you.\n\nThe 
 All Breeds Equine Emporium will be host to over 200 vendors displaying
  the latest in goods and services, and over 60 breed demonstrations th
 roughout the day.\n\nHorseJobs.ca is excited to be hosting the first e
 ver career fair at the Can Am, so don't forget to stop by their booth 
 and meet industry representatives from the Ontario Association of Equi
 ne Vet Practitioners, The Ontario Harness Horse Association, The Ontar
 io Farrier's Association, The Toronto Mounted Police and many more...\
 n\nCareer based seminars include\n\"Resumes for the Equine Industry\"\
 n\"Careers in the Racing Industry\"\nand \"Equine Healthcare Careers\"
 \n(See the Speaker Schedule for full details available at www.canamequ
 ine.ca)\n\nOther Scheduled clinicians and presenters at this year's Ca
 n Am include Terry Myers, Bob Jeffreys, Danny Foster, Rich Wheat, Clay
  Maier, Tommie Turvey, Jason Patrick and many more will be discussing 
 their unique insights on training and teaching techniques.\n\nIn addit
 ion, don't miss the Equine Guelph EquiaMania! Education Centre and the
  Home Hardware Extravaganza - a 2 hour musical showcasing the beauty o
 f horse breeds.\n\nAll 2009 OEF members receive a 25% discount off gen
 eral admission tickets to the Can-Am All Breeds Equine Emporium, so bo
 ok your tickets today before it's too late!\n\nTo purchase tickets go 
 to www.canamequine.ca OR call 519-421-1189\n\nFor more information vis
 it http://www.barnmice.com/events/can-am-all-breeds-equine
DTSTART;TZID=America/Detroit:20090320T090000
DTEND;TZID=America/Detroit:20090322T183000
CATEGORIES:trade, show, emporium, clinic, seminar, presentation, caree
 r, fair
LOCATION:Western Fair Entertainment Centre Agriplex Building
WEBSITE:http://www.canamequine.ca
URL:http://www.canamequine.ca
CONTACT:519-421-1189
ORGANIZER:Can-Am Equine Marketing
ATTACH;FMTTYPE="image/jpeg":http://storage.ning.com/topology/rest/1.0/
 file/get/2248645919?profile=original
ATTENDEE;ROLE=REQ-PARTICIPANT;PARTSTAT=ACCEPTED;RSVP=TRUE;CN="Riley Ma
 stardo":http://www.barnmice.com/profile/RileyMastardo
ATTENDEE;ROLE=REQ-PARTICIPANT;PARTSTAT=ACCEPTED;RSVP=TRUE;CN="Sarah at
  HorseJobs.ca":http://www.barnmice.com/profile/HorseJobs
END:VEVENT
END:VCALENDAR
