BEGIN:VCALENDAR
PRODID:NingEventWidget-v1
VERSION:2.0
METHOD:PUBLISH
BEGIN:VTIMEZONE
TZID:America/Detroit
X-LIC-LOCATION:America/Detroit
BEGIN:DAYLIGHT
TZOFFSETFROM:-0500
TZOFFSETTO:-0400
TZNAME:EDT
DTSTART:19700308T020000
RRULE:FREQ=YEARLY;BYMONTH=3;BYDAY=2SU
END:DAYLIGHT
BEGIN:STANDARD
TZOFFSETFROM:-0400
TZOFFSETTO:-0500
TZNAME:EST
DTSTART:19701101T020000
RRULE:FREQ=YEARLY;BYMONTH=11;BYDAY=1SU
END:STANDARD
END:VTIMEZONE
BEGIN:VEVENT
UID:1773158:Event:64310
DTSTAMP:20260425T142203Z
SUMMARY:Canadian Sport Horse Stallion Service Auction
DESCRIPTION:The annual on line Stallion Service Auction is on now.\nCh
 eck out some of the great deals on these studmeisters now! Just in tim
 e for Valentines Day's!\n\nThe close commences in alphabetical order a
 t 7:00 pm EST on Sunday Feb. 15.\n\n\n\nList of stallions in the CSHA 
 2009 Stallion Auction There are some real great deals here!\n\nApache,
  Brioso, Chablis 1 Z, Danmar, Donavan, Flipping Hot Tabasco, Frenchman
 , Glorioso Noir, Hadrian, Ilian De Taute, Ikoon, Ironman, Kupido K, Le
  Primeur/Salito,\nNavarone, Novalis, Outrageous Fortune, P.S. I Love Y
 ou, Peugeot HPF, Poco Gato,\nPortland L, Raffaello, Rather Well, Regar
 dez, Rio's Filius W, Rio Salado,\nRiot, Rupert, Sir Edward, Sir Wanabi
 , VDL Ulando H, Westporte, Yellow Creek\n\nto find out more about each
  stallion look them up on the Canadian Stallion Directory which is on 
 line as well.\n\nFor more information visit http://www.barnmice.com/ev
 ents/canadian-sport-horse-stallion
DTSTART;TZID=America/Detroit:20090211T000000
DTEND;TZID=America/Detroit:20090215T190000
CATEGORIES:fundraiser
LOCATION:On Line Auction
WEBSITE:http://www.c-s-h-a.org/content/page/csha-auction-1907.html
URL:http://www.c-s-h-a.org/content/page/csha-auction-1907.html
CONTACT:1-519-925-1181
ORGANIZER:Canadian Sport Horse Association
ATTACH;FMTTYPE="image/jpeg":http://storage.ning.com/topology/rest/1.0/
 file/get/2248644156?profile=original
ATTENDEE;ROLE=REQ-PARTICIPANT;PARTSTAT=ACCEPTED;RSVP=TRUE;CN=Marg:http
 ://www.barnmice.com/profile/Marg
ATTENDEE;ROLE=REQ-PARTICIPANT;PARTSTAT=ACCEPTED;RSVP=TRUE;CN=Bonnie:ht
 tp://www.barnmice.com/profile/Bonnie2
ATTENDEE;ROLE=REQ-PARTICIPANT;PARTSTAT=ACCEPTED;RSVP=TRUE;CN=Allison:h
 ttp://www.barnmice.com/profile/Allison30
END:VEVENT
END:VCALENDAR
