BEGIN:VCALENDAR
PRODID:NingEventWidget-v1
VERSION:2.0
METHOD:PUBLISH
BEGIN:VTIMEZONE
TZID:America/Detroit
X-LIC-LOCATION:America/Detroit
BEGIN:DAYLIGHT
TZOFFSETFROM:-0500
TZOFFSETTO:-0400
TZNAME:EDT
DTSTART:19700308T020000
RRULE:FREQ=YEARLY;BYMONTH=3;BYDAY=2SU
END:DAYLIGHT
BEGIN:STANDARD
TZOFFSETFROM:-0400
TZOFFSETTO:-0500
TZNAME:EST
DTSTART:19701101T020000
RRULE:FREQ=YEARLY;BYMONTH=11;BYDAY=1SU
END:STANDARD
END:VTIMEZONE
BEGIN:VEVENT
UID:1773158:Event:225759
DTSTAMP:20260425T191606Z
SUMMARY:CARDathon in the Park
DESCRIPTION:CARDathon is a ride-a-thon and walk-a-thon through G. Ross
  Lord Park to raise funds in support of CARD's therapeutic riding prog
 ram and the more than 500 children and adults with disabilities from a
 cross the GTA it supports.\n\nJoin us for a great day in celebration o
 f a great organization. Learn how to square dance, watch a roping demo
 nstration, and walk the trails of G. Ross Lord Park.\n\nParticipate in
  CARDathon 2010! Download the appropriate form and fax to 416-739-7520
  or email to info@card.ca.\nhttp://www.card.ca/index.cfm?pagePath=Even
 ts/CARDathon_in_the_Park_2010&id=19467\n\nFor more information visit h
 ttp://www.barnmice.com/events/cardathon-in-the-park-1
DTSTART;TZID=America/Detroit:20100619T000000
DTEND;TZID=America/Detroit:20100619T235900
CATEGORIES:fundraiser, ride-a-thon
LOCATION:G. Ross Lord Park. north of Toronto
WEBSITE:http://www.card.ca/
URL:http://www.card.ca/
CONTACT:416-739-7520
ORGANIZER:Sue Iwan and the team at CARD
ATTACH;FMTTYPE="image/jpeg":
ATTENDEE;ROLE=REQ-PARTICIPANT;PARTSTAT=ACCEPTED;RSVP=TRUE;CN="Cheryl B
 ruder":http://www.barnmice.com/profile/CherylBruder
END:VEVENT
END:VCALENDAR
