BEGIN:VCALENDAR
PRODID:NingEventWidget-v1
VERSION:2.0
METHOD:PUBLISH
BEGIN:VTIMEZONE
TZID:America/Detroit
X-LIC-LOCATION:America/Detroit
BEGIN:DAYLIGHT
TZOFFSETFROM:-0500
TZOFFSETTO:-0400
TZNAME:EDT
DTSTART:19700308T020000
RRULE:FREQ=YEARLY;BYMONTH=3;BYDAY=2SU
END:DAYLIGHT
BEGIN:STANDARD
TZOFFSETFROM:-0400
TZOFFSETTO:-0500
TZNAME:EST
DTSTART:19701101T020000
RRULE:FREQ=YEARLY;BYMONTH=11;BYDAY=1SU
END:STANDARD
END:VTIMEZONE
BEGIN:VEVENT
UID:1773158:Event:87978
DTSTAMP:20260425T191607Z
SUMMARY:Clinic with Gary Marsolais
DESCRIPTION:Saturday April 11, 2009 - 9 - 4pm. Maximum of 5 horse/ride
 r combinations....$75.00/horse & rider, includes lunch and auditor pas
 s.\n\nBring your horse & Bring your dream.\n\nCome out and meet new pe
 ople and have some fun all while learning from horseman Gary Marsolais
 . Gary has over 40 years experience and he specializes in helping peop
 le and horses. No gimmicks, just honest, helpful answers!\n\nFor more 
 information visit http://www.barnmice.com/events/clinic-with-gary-mars
 olais
DTSTART;TZID=America/Detroit:20090411T090000
DTEND;TZID=America/Detroit:20090411T160000
CATEGORIES:clinic
LOCATION:Chatsworth, ON
WEBSITE:http://www.gktrainingcentre.com
URL:http://www.gktrainingcentre.com
CONTACT:519-794-4715
ORGANIZER;CN="Kerri Morden-Marsolais":http://www.barnmice.com/profile/
 KerriMordenMarsolais
ATTACH;FMTTYPE="image/jpeg":http://storage.ning.com/topology/rest/1.0/
 file/get/2248648432?profile=original
ATTENDEE;ROLE=REQ-PARTICIPANT;PARTSTAT=ACCEPTED;RSVP=TRUE;CN="Kerri Mo
 rden-Marsolais":http://www.barnmice.com/profile/KerriMordenMarsolais
END:VEVENT
END:VCALENDAR
