BEGIN:VCALENDAR
PRODID:NingEventWidget-v1
VERSION:2.0
METHOD:PUBLISH
BEGIN:VTIMEZONE
TZID:America/Detroit
X-LIC-LOCATION:America/Detroit
BEGIN:DAYLIGHT
TZOFFSETFROM:-0500
TZOFFSETTO:-0400
TZNAME:EDT
DTSTART:19700308T020000
RRULE:FREQ=YEARLY;BYMONTH=3;BYDAY=2SU
END:DAYLIGHT
BEGIN:STANDARD
TZOFFSETFROM:-0400
TZOFFSETTO:-0500
TZNAME:EST
DTSTART:19701101T020000
RRULE:FREQ=YEARLY;BYMONTH=11;BYDAY=1SU
END:STANDARD
END:VTIMEZONE
BEGIN:VEVENT
UID:1773158:Event:508920
DTSTAMP:20260421T053037Z
SUMMARY:Clonshire Equestrian Centre
DESCRIPTION:Winter training courses at Clonshire.  We have a range of
  courses preparing students for their British Horse Society (BHS) stag
 e 1, 2, 3 and PTT examinations.  There are residential five and seven
  day courses as well as part time day and evening courses.  For furth
 er information and prices please contact tess@clonshire.com\n\nFor mor
 e information visit http://www.barnmice.com/events/clonshire-equestria
 n-centre
DTSTART;TZID=America/Detroit:20111019T180000
DTEND;TZID=America/Detroit:20111130T210000
CATEGORIES:bhs, training, course
LOCATION:Adare, Limerick, Ireland
WEBSITE:http://www.clonshire.com
URL:http://www.clonshire.com
CONTACT:00353 61 396770
ORGANIZER;CN="Clonshire Equestrian Centre":http://www.barnmice.com/pro
 file/ClonshireEquestrianCentre
ATTACH;FMTTYPE="image/jpeg":http://storage.ning.com/topology/rest/1.0/
 file/get/2187991779?profile=original
ATTENDEE;ROLE=REQ-PARTICIPANT;PARTSTAT=ACCEPTED;RSVP=TRUE;CN="Clonshir
 e Equestrian Centre":http://www.barnmice.com/profile/ClonshireEquestri
 anCentre
END:VEVENT
END:VCALENDAR
