BEGIN:VCALENDAR
PRODID:NingEventWidget-v1
VERSION:2.0
METHOD:PUBLISH
BEGIN:VTIMEZONE
TZID:America/Detroit
X-LIC-LOCATION:America/Detroit
BEGIN:DAYLIGHT
TZOFFSETFROM:-0500
TZOFFSETTO:-0400
TZNAME:EDT
DTSTART:19700308T020000
RRULE:FREQ=YEARLY;BYMONTH=3;BYDAY=2SU
END:DAYLIGHT
BEGIN:STANDARD
TZOFFSETFROM:-0400
TZOFFSETTO:-0500
TZNAME:EST
DTSTART:19701101T020000
RRULE:FREQ=YEARLY;BYMONTH=11;BYDAY=1SU
END:STANDARD
END:VTIMEZONE
BEGIN:VEVENT
UID:1773158:Event:77222
DTSTAMP:20260424T213909Z
SUMMARY:Craig Stevens Classical Equitation Clinic
DESCRIPTION:Craig Stevens is an international clinician who spends hal
 f of the year travelling throughout Europe and the UK. He has spent a 
 lifetime studying and translating the works of the Old Masters from Fr
 ench to English, and his understanding of riding and the history of ho
 w it evolved is unparalleled. It is a joy to understand true lightness
 , and experience the horse in autonomy of it's own body. These clinics
  are about body awareness for both horse and rider. Schooling issues d
 isappear as if by magic, as this teaching is dynamic not mechanical in
  nature. You are encouraged to learn by experience, instead of being t
 old what to do. It opens a whole new world of feel and tact with your 
 horse.\n\nFor more information visit http://www.barnmice.com/events/cr
 aig-stevens-classical
DTSTART;TZID=America/Detroit:20090502T000000
DTEND;TZID=America/Detroit:20090503T235900
CATEGORIES:educational
LOCATION:Park Lane Equestrian Centre
WEBSITE:http://www.classical-equitation.com
URL:http://www.classical-equitation.com
CONTACT:604-504-5909
ORGANIZER;CN="P.Ann Turner":http://www.barnmice.com/profile/PAnnTurner
ATTACH;FMTTYPE="image/jpeg":http://storage.ning.com/topology/rest/1.0/
 file/get/2248647816?profile=original
ATTENDEE;ROLE=REQ-PARTICIPANT;PARTSTAT=ACCEPTED;RSVP=TRUE;CN="P.Ann Tu
 rner":http://www.barnmice.com/profile/PAnnTurner
END:VEVENT
END:VCALENDAR
