BEGIN:VCALENDAR
PRODID:NingEventWidget-v1
VERSION:2.0
METHOD:PUBLISH
BEGIN:VTIMEZONE
TZID:America/Detroit
X-LIC-LOCATION:America/Detroit
BEGIN:DAYLIGHT
TZOFFSETFROM:-0500
TZOFFSETTO:-0400
TZNAME:EDT
DTSTART:19700308T020000
RRULE:FREQ=YEARLY;BYMONTH=3;BYDAY=2SU
END:DAYLIGHT
BEGIN:STANDARD
TZOFFSETFROM:-0400
TZOFFSETTO:-0500
TZNAME:EST
DTSTART:19701101T020000
RRULE:FREQ=YEARLY;BYMONTH=11;BYDAY=1SU
END:STANDARD
END:VTIMEZONE
BEGIN:VEVENT
UID:1773158:Event:76808
DTSTAMP:20260425T204353Z
SUMMARY:Equine Basic First Aid part 2
DESCRIPTION:A follow up to the previous First Aid clinic, with more in
 formation on things like choke, typing up and heat stroke. A handout i
 s provided. Check the website under Clinics for 2009 for details and r
 egistration.\n\nFor more information visit http://www.barnmice.com/eve
 nts/equine-basic-first-aid-part-2
DTSTART;TZID=America/Detroit:20090418T090000
DTEND;TZID=America/Detroit:20090418T130000
CATEGORIES:educational
LOCATION:Wit's End Farms Equine Rehab
WEBSITE:http://www.witsendfarms.com
URL:http://www.witsendfarms.com
CONTACT:604-504-5909
ORGANIZER;CN="P.Ann Turner":http://www.barnmice.com/profile/PAnnTurner
ATTACH;FMTTYPE="image/jpeg":http://storage.ning.com/topology/rest/1.0/
 file/get/2248651141?profile=original
ATTENDEE;ROLE=REQ-PARTICIPANT;PARTSTAT=ACCEPTED;RSVP=TRUE;CN="P.Ann Tu
 rner":http://www.barnmice.com/profile/PAnnTurner
END:VEVENT
END:VCALENDAR
