BEGIN:VCALENDAR
PRODID:NingEventWidget-v1
VERSION:2.0
METHOD:PUBLISH
BEGIN:VTIMEZONE
TZID:America/Detroit
X-LIC-LOCATION:America/Detroit
BEGIN:DAYLIGHT
TZOFFSETFROM:-0500
TZOFFSETTO:-0400
TZNAME:EDT
DTSTART:19700308T020000
RRULE:FREQ=YEARLY;BYMONTH=3;BYDAY=2SU
END:DAYLIGHT
BEGIN:STANDARD
TZOFFSETFROM:-0400
TZOFFSETTO:-0500
TZNAME:EST
DTSTART:19701101T020000
RRULE:FREQ=YEARLY;BYMONTH=11;BYDAY=1SU
END:STANDARD
END:VTIMEZONE
BEGIN:VEVENT
UID:1773158:Event:187573
DTSTAMP:20260425T155547Z
SUMMARY:Equine Canada Rider 5-6 Clinic
DESCRIPTION:This 2 day course includes riding on the flat/fences as we
 ll as stable management theory and practical.Rider 6 is pre-requisite 
 for instructor candidates\n\nFor more information visit http://www.bar
 nmice.com/events/equine-canada-rider-56-clinic
DTSTART;TZID=America/Detroit:20100705T090000
DTEND;TZID=America/Detroit:20100706T160000
CATEGORIES:clinic
LOCATION:Equus 3D Equestrian Centre
WEBSITE:http://www.equus3dfarm.com
URL:http://www.equus3dfarm.com
CONTACT:519-940-0048
ORGANIZER;CN="Equus 3D Equestrian Centre":http://www.barnmice.com/prof
 ile/MHLessard71
ATTACH;FMTTYPE="image/jpeg":
ATTENDEE;ROLE=REQ-PARTICIPANT;PARTSTAT=ACCEPTED;RSVP=TRUE;CN="Equus 3D
  Equestrian Centre":http://www.barnmice.com/profile/MHLessard71
END:VEVENT
END:VCALENDAR
