BEGIN:VCALENDAR
PRODID:NingEventWidget-v1
VERSION:2.0
METHOD:PUBLISH
BEGIN:VTIMEZONE
TZID:America/Detroit
X-LIC-LOCATION:America/Detroit
BEGIN:DAYLIGHT
TZOFFSETFROM:-0500
TZOFFSETTO:-0400
TZNAME:EDT
DTSTART:19700308T020000
RRULE:FREQ=YEARLY;BYMONTH=3;BYDAY=2SU
END:DAYLIGHT
BEGIN:STANDARD
TZOFFSETFROM:-0400
TZOFFSETTO:-0500
TZNAME:EST
DTSTART:19701101T020000
RRULE:FREQ=YEARLY;BYMONTH=11;BYDAY=1SU
END:STANDARD
END:VTIMEZONE
BEGIN:VEVENT
UID:1773158:Event:65988
DTSTAMP:20260425T141603Z
SUMMARY:Evening with Artist Debbie Goldring at Greenhawk
DESCRIPTION:Join us February 26th, 2009 from 5-8pm for a discussion an
 d Q&A period with Artist Debbie Goldring.\nTopics will include Drawing
  Tips - Equine Photography Tips - How to Commission a Portrait of your
  Horse - Open Q&A\n\nThere will be artwork, note cards and prints avai
 lable for sale.\n\nLooking forward to seeing you there!\n\nFor more in
 formation visit http://www.barnmice.com/events/evening-with-artist-deb
 bie
DTSTART;TZID=America/Detroit:20090226T170000
DTEND;TZID=America/Detroit:20090226T200000
CATEGORIES:discussion
LOCATION:Greenhawk Harness and Equestrian Supplies
WEBSITE:http://www.greenhawk.net/cgi-local/SoftCart.exe/scstore/store_
 locator.html?L+scstore+dvpl6136ff0fca0f+1234922830#Mississauga_store
URL:http://www.greenhawk.net/cgi-local/SoftCart.exe/scstore/store_loca
 tor.html?L+scstore+dvpl6136ff0fca0f+1234922830#Mississauga_store
CONTACT:905.238.8507
ORGANIZER:Greenhawk
ATTACH;FMTTYPE="image/jpeg":http://storage.ning.com/topology/rest/1.0/
 file/get/2069789503?profile=original
ATTENDEE;ROLE=REQ-PARTICIPANT;PARTSTAT=ACCEPTED;RSVP=TRUE;CN="Debbie G
 oldring":http://www.barnmice.com/profile/Brittany
END:VEVENT
END:VCALENDAR
