BEGIN:VCALENDAR
PRODID:NingEventWidget-v1
VERSION:2.0
METHOD:PUBLISH
BEGIN:VTIMEZONE
TZID:America/Detroit
X-LIC-LOCATION:America/Detroit
BEGIN:DAYLIGHT
TZOFFSETFROM:-0500
TZOFFSETTO:-0400
TZNAME:EDT
DTSTART:19700308T020000
RRULE:FREQ=YEARLY;BYMONTH=3;BYDAY=2SU
END:DAYLIGHT
BEGIN:STANDARD
TZOFFSETFROM:-0400
TZOFFSETTO:-0500
TZNAME:EST
DTSTART:19701101T020000
RRULE:FREQ=YEARLY;BYMONTH=11;BYDAY=1SU
END:STANDARD
END:VTIMEZONE
BEGIN:VEVENT
UID:1773158:Event:61439
DTSTAMP:20260425T155714Z
SUMMARY:HorseJobs Career Fair
DESCRIPTION:\nNEW FOR 2009! HorseJobs.ca is proud to announce its part
 nership with Can-Am Equine Marketing (www.canamequine.ca) at the 2009 
 Can-Am All Breeds Equine Emporium in London, Ontario.\n\nHorseJobs.ca 
 will be the co-coordinator for the first HorseJobs.ca Career Fair at t
 he Can Am and is working in partnership with Equine Guelph and their i
 ncredible Equi-Mania! educational program.\n\nThis event takes place i
 n London, Ontario at the Western Agriplex from March 20th - 22nd, 2009
 .\nHorseJobs.ca will be joined by plenty of informative industry repre
 sentatives from various career fields within the equine industry. Thes
 e representatives will be on site, each day, to answer any of your car
 eer related questions. HorseJobs.ca will also be providing lectures ea
 ch day that highlight specific career paths such as an equine healthca
 re panel and working in the racing industry, to name but a few, PLUS r
 esume writing and interviewing workshops.\n\nSo, while enjoying the tr
 ade show floor, don’t forget to stop by the HorseJobs.ca Career Fair
  for industry insights, career advice and up to date listings for loca
 l and national job opportunities. Bring along a copy of your resume fo
 r a free assessment from a HorseJobs.ca Career Advisor.\n\nTickets sta
 rts at only $12 adn OEF memebers receive a 25% discount on ticket pric
 es!!\n\nFor a full speaker schedule - visit www.horsejobs.ca and view 
 our blog or go to www.canamequine.ca\n\nQuestions? Interested in parti
 cipating? Contact Sarah at info@horsejobs.ca or call 1-877-881 JOBS (5
 627)\n\nFor more information visit http://www.barnmice.com/events/hors
 ejobs-career-fair
DTSTART;TZID=America/Detroit:20090320T000000
DTEND;TZID=America/Detroit:20090322T235900
CATEGORIES:career, fair, educational, seminar, trade, show
LOCATION:Western Agriplex
WEBSITE:http://www.canamequine.ca
URL:http://www.canamequine.ca
CONTACT:1-877-881-5627
ORGANIZER;CN="Sarah at HorseJobs.ca":http://www.barnmice.com/profile/H
 orseJobs
ATTACH;FMTTYPE="image/jpeg":http://storage.ning.com/topology/rest/1.0/
 file/get/2059318739?profile=original
ATTENDEE;ROLE=REQ-PARTICIPANT;PARTSTAT=ACCEPTED;RSVP=TRUE;CN=Allyson:h
 ttp://www.barnmice.com/profile/Allyson
ATTENDEE;ROLE=REQ-PARTICIPANT;PARTSTAT=ACCEPTED;RSVP=TRUE;CN="Sarah at
  HorseJobs.ca":http://www.barnmice.com/profile/HorseJobs
END:VEVENT
END:VCALENDAR
