BEGIN:VCALENDAR
PRODID:NingEventWidget-v1
VERSION:2.0
METHOD:PUBLISH
BEGIN:VTIMEZONE
TZID:America/Detroit
X-LIC-LOCATION:America/Detroit
BEGIN:DAYLIGHT
TZOFFSETFROM:-0500
TZOFFSETTO:-0400
TZNAME:EDT
DTSTART:19700308T020000
RRULE:FREQ=YEARLY;BYMONTH=3;BYDAY=2SU
END:DAYLIGHT
BEGIN:STANDARD
TZOFFSETFROM:-0400
TZOFFSETTO:-0500
TZNAME:EST
DTSTART:19701101T020000
RRULE:FREQ=YEARLY;BYMONTH=11;BYDAY=1SU
END:STANDARD
END:VTIMEZONE
BEGIN:VEVENT
UID:1773158:Event:61924
DTSTAMP:20260425T141605Z
SUMMARY:Instructor of Beginners - Jumping module theory & practical me
 ntoring
DESCRIPTION:This 1 day course is for Instructor candidates or Instruct
 ors wishing to upgrade their qualification to include jumping * Examin
 ation not included\n$80.00 + GST\n\nFor more information visit http://
 www.barnmice.com/events/instructor-of-beginners
DTSTART;TZID=America/Detroit:20090208T090000
DTEND;TZID=America/Detroit:20090208T160000
CATEGORIES:clinic, horsemanship
LOCATION:Equus 3D Equestrian Centre
WEBSITE:http://www.equus3dfarm.com/
URL:http://www.equus3dfarm.com/
CONTACT:519-940-0048
ORGANIZER;CN="MH Lessard":http://www.barnmice.com/profile/MHLessard
ATTACH;FMTTYPE="image/jpeg":http://storage.ning.com/topology/rest/1.0/
 file/get/2248643787?profile=original
ATTENDEE;ROLE=REQ-PARTICIPANT;PARTSTAT=ACCEPTED;RSVP=TRUE;CN="MH Lessa
 rd":http://www.barnmice.com/profile/MHLessard
END:VEVENT
END:VCALENDAR
