BEGIN:VCALENDAR
PRODID:NingEventWidget-v1
VERSION:2.0
METHOD:PUBLISH
BEGIN:VTIMEZONE
TZID:America/Detroit
X-LIC-LOCATION:America/Detroit
BEGIN:DAYLIGHT
TZOFFSETFROM:-0500
TZOFFSETTO:-0400
TZNAME:EDT
DTSTART:19700308T020000
RRULE:FREQ=YEARLY;BYMONTH=3;BYDAY=2SU
END:DAYLIGHT
BEGIN:STANDARD
TZOFFSETFROM:-0400
TZOFFSETTO:-0500
TZNAME:EST
DTSTART:19701101T020000
RRULE:FREQ=YEARLY;BYMONTH=11;BYDAY=1SU
END:STANDARD
END:VTIMEZONE
BEGIN:VEVENT
UID:1773158:Event:180027
DTSTAMP:20260424T150217Z
SUMMARY:Kwantlen Equine Studes Lecture series
DESCRIPTION:Equine Lecture Series: Cost $60 per day/person\n\n1) What 
 exactly is rehab, and how do I know my horse needs it? What results ca
 n you get from it?\n2) Understanding Equine Sports Massage Therapy\n3)
  Understanding Equine Structural Alignment, and how it differs from Ch
 iropractics.\n\nFor more information visit http://www.barnmice.com/eve
 nts/kwantlen-equine-studes-lecture
DTSTART;TZID=America/Detroit:20100220T090000
DTEND;TZID=America/Detroit:20100220T160000
CATEGORIES:educational
LOCATION:Kwantlen College – Langley Campus  – classroom # 1540
WEBSITE:
URL:
CONTACT:604-504-5909
ORGANIZER;CN="P.Ann Turner":http://www.barnmice.com/profile/PAnnTurner
ATTACH;FMTTYPE="image/jpeg":http://storage.ning.com/topology/rest/1.0/
 file/get/2108180597?profile=original
ATTENDEE;ROLE=REQ-PARTICIPANT;PARTSTAT=ACCEPTED;RSVP=TRUE;CN="P.Ann Tu
 rner":http://www.barnmice.com/profile/PAnnTurner
ATTENDEE;ROLE=REQ-PARTICIPANT;PARTSTAT=TENTATIVE;RSVP=TRUE;CN="Michell
 e Synnot":http://www.barnmice.com/profile/MichelleSynnot
END:VEVENT
END:VCALENDAR
