BEGIN:VCALENDAR
PRODID:NingEventWidget-v1
VERSION:2.0
METHOD:PUBLISH
BEGIN:VTIMEZONE
TZID:America/Detroit
X-LIC-LOCATION:America/Detroit
BEGIN:DAYLIGHT
TZOFFSETFROM:-0500
TZOFFSETTO:-0400
TZNAME:EDT
DTSTART:19700308T020000
RRULE:FREQ=YEARLY;BYMONTH=3;BYDAY=2SU
END:DAYLIGHT
BEGIN:STANDARD
TZOFFSETFROM:-0400
TZOFFSETTO:-0500
TZNAME:EST
DTSTART:19701101T020000
RRULE:FREQ=YEARLY;BYMONTH=11;BYDAY=1SU
END:STANDARD
END:VTIMEZONE
BEGIN:VEVENT
UID:1773158:Event:179665
DTSTAMP:20260423T223115Z
SUMMARY:Learn Equine Massage
DESCRIPTION:Equine Sports Massage Certification Program.\n2010 Schedul
 e Announced!\n\nNorth America's longest running 50 hour certification 
 program teaches you the fundamentals of equine sports massage, biomech
 anics, musculature and gait analysis.\n\nHands on structured learning 
 from our Smiths Falls Facility.\n\nFirst class of 2010 offered January
  16-24.\nChoose the 5 day program or the new \"weekender\" program (2 
 consecutive weekends)\n\nEmail today to reserve your spot! Maximum of 
 6 students per class.\n\nequissagecanada@gmail.com\n\nFor more informa
 tion visit http://www.barnmice.com/events/learn-equine-massage
DTSTART;TZID=America/Detroit:20100116T000000
DTEND;TZID=America/Detroit:20100124T235900
CATEGORIES:certification, course
LOCATION:Smiths Falls
WEBSITE:http://www.equissagecanada.com
URL:http://www.equissagecanada.com
CONTACT:613-283-6224
ORGANIZER;CN="Equissage Canada":http://www.barnmice.com/profile/Equiss
 ageCanada
ATTACH;FMTTYPE="image/jpeg":
ATTENDEE;ROLE=REQ-PARTICIPANT;PARTSTAT=ACCEPTED;RSVP=TRUE;CN="Riley Ma
 stardo":http://www.barnmice.com/profile/RileyMastardo
ATTENDEE;ROLE=REQ-PARTICIPANT;PARTSTAT=ACCEPTED;RSVP=TRUE;CN="Equissag
 e Canada":http://www.barnmice.com/profile/EquissageCanada
END:VEVENT
END:VCALENDAR
