BEGIN:VCALENDAR
PRODID:NingEventWidget-v1
VERSION:2.0
METHOD:PUBLISH
BEGIN:VTIMEZONE
TZID:America/Detroit
X-LIC-LOCATION:America/Detroit
BEGIN:DAYLIGHT
TZOFFSETFROM:-0500
TZOFFSETTO:-0400
TZNAME:EDT
DTSTART:19700308T020000
RRULE:FREQ=YEARLY;BYMONTH=3;BYDAY=2SU
END:DAYLIGHT
BEGIN:STANDARD
TZOFFSETFROM:-0400
TZOFFSETTO:-0500
TZNAME:EST
DTSTART:19701101T020000
RRULE:FREQ=YEARLY;BYMONTH=11;BYDAY=1SU
END:STANDARD
END:VTIMEZONE
BEGIN:VEVENT
UID:1773158:Event:197461
DTSTAMP:20260424T132634Z
SUMMARY:Long Lining Clinic For Dressage Horses
DESCRIPTION:Learn how to do shoulder in,half pass and leg yeild while 
 long lining as well as how to long line a dressage test.\n\n$75 with h
 orse\n$50 to audit\nlunch included\n\n10 - 4pm\n\nFor more information
  visit http://www.barnmice.com/events/long-lining-clinic-for
DTSTART;TZID=America/Detroit:20100214T000000
DTEND;TZID=America/Detroit:20100214T235900
CATEGORIES:clinic
LOCATION:Wedgewood Farms
WEBSITE:http://www.wedgewoodfarms.org
URL:http://www.wedgewoodfarms.org
CONTACT:604-613-1565
ORGANIZER;CN="Kathrine Gilker":http://www.barnmice.com/profile/Kathrin
 eGilker
ATTACH;FMTTYPE="image/jpeg":
ATTENDEE;ROLE=REQ-PARTICIPANT;PARTSTAT=ACCEPTED;RSVP=TRUE;CN="Kathrine
  Gilker":http://www.barnmice.com/profile/KathrineGilker
END:VEVENT
END:VCALENDAR
