BEGIN:VCALENDAR
PRODID:NingEventWidget-v1
VERSION:2.0
METHOD:PUBLISH
BEGIN:VTIMEZONE
TZID:America/Detroit
X-LIC-LOCATION:America/Detroit
BEGIN:DAYLIGHT
TZOFFSETFROM:-0500
TZOFFSETTO:-0400
TZNAME:EDT
DTSTART:19700308T020000
RRULE:FREQ=YEARLY;BYMONTH=3;BYDAY=2SU
END:DAYLIGHT
BEGIN:STANDARD
TZOFFSETFROM:-0400
TZOFFSETTO:-0500
TZNAME:EST
DTSTART:19701101T020000
RRULE:FREQ=YEARLY;BYMONTH=11;BYDAY=1SU
END:STANDARD
END:VTIMEZONE
BEGIN:VEVENT
UID:1773158:Event:261787
DTSTAMP:20260425T155252Z
SUMMARY:Mike Schaffer coming to NY!
DESCRIPTION:Cognitive, Bottom Up Dressage with Mike Schaffer\n\n\"The 
 cognitive, bottom up process of training a dressage horse begins with\
 "first tier basics\". They are: Go, Stop, Turn In, Move Out, and Softe
 n. Although these concepts are hidden deep within the language, they a
 re at the core of everything in dressage. We build from these to creat
 e all of the figures, movements and qualities we want in our horses.\"
 Mike Schaffer, from Riding in the Moment\n\nFor more information visit
  http://www.barnmice.com/events/mike-schaffer-coming-to-ny
DTSTART;TZID=America/Detroit:20100904T000000
DTEND;TZID=America/Detroit:20100905T235900
CATEGORIES:clinic
LOCATION:Loosestrife Farm, 30 Loosestrife lane , Accord NY
WEBSITE:http://www.mikeschaffer.com
URL:http://www.mikeschaffer.com
CONTACT:8456588758
ORGANIZER;CN="Laura Coffey":http://www.barnmice.com/profile/LauraCoffe
 y
ATTACH;FMTTYPE="image/jpeg":
ATTENDEE;ROLE=REQ-PARTICIPANT;PARTSTAT=ACCEPTED;RSVP=TRUE;CN="Laura Co
 ffey":http://www.barnmice.com/profile/LauraCoffey
ATTENDEE;ROLE=REQ-PARTICIPANT;PARTSTAT=TENTATIVE;RSVP=TRUE;CN="Margare
 t Kunz":http://www.barnmice.com/profile/MargaretKunz
END:VEVENT
END:VCALENDAR
