BEGIN:VCALENDAR
PRODID:NingEventWidget-v1
VERSION:2.0
METHOD:PUBLISH
BEGIN:VTIMEZONE
TZID:America/Detroit
X-LIC-LOCATION:America/Detroit
BEGIN:DAYLIGHT
TZOFFSETFROM:-0500
TZOFFSETTO:-0400
TZNAME:EDT
DTSTART:19700308T020000
RRULE:FREQ=YEARLY;BYMONTH=3;BYDAY=2SU
END:DAYLIGHT
BEGIN:STANDARD
TZOFFSETFROM:-0400
TZOFFSETTO:-0500
TZNAME:EST
DTSTART:19701101T020000
RRULE:FREQ=YEARLY;BYMONTH=11;BYDAY=1SU
END:STANDARD
END:VTIMEZONE
BEGIN:VEVENT
UID:1773158:Event:72686
DTSTAMP:20260425T204414Z
SUMMARY:MTO Trailering Clinic
DESCRIPTION:\nMTO Trailering Clinic April 19th (10 am start.)\nCome fo
 r an information session on SAFETY and the LAW.....Will your truck and
  trailer pass the test?\nWell here is your chance to find out!!\n\nFea
 turing guest speaker:\nDavid Hopkins from MTO\n\nPrice............. $5
 .00 for non members of MGAC\nLocation.......Grand River Raceway, Elora
 , Ont.\nDate.............April 19th\nTime.............10:00 am start\n
 \nFor More Information Contact: Cindy Johnson (519) 843-5150\n\nThis E
 vent is sponsored by: Mounted Games Across Canada.\n\nPS......If you w
 ould like specifics on your truck & trailer, bring your Drivers Licens
 e, Truck Manual, and the Registration for your truck and trailer.\n\nF
 or more information visit http://www.barnmice.com/events/mto-trailerin
 g-clinic
DTSTART;TZID=America/Detroit:20090419T000000
DTEND;TZID=America/Detroit:20090419T235900
CATEGORIES:educational, clinic, for, trailer, safety, requirements, "&
 ", the, law
LOCATION:Grand River Raceway, ELORA Ontario
WEBSITE:
URL:
CONTACT:Cindy Johnson 519-843-5150
ORGANIZER:MOUNTED GAMES ACROSS CANADA
ATTACH;FMTTYPE="image/jpeg":
ATTENDEE;ROLE=REQ-PARTICIPANT;PARTSTAT=ACCEPTED;RSVP=TRUE;CN="Riley Ma
 stardo":http://www.barnmice.com/profile/RileyMastardo
ATTENDEE;ROLE=REQ-PARTICIPANT;PARTSTAT=ACCEPTED;RSVP=TRUE;CN="Canadian
  Starz":http://www.barnmice.com/profile/CanadianStarz
END:VEVENT
END:VCALENDAR
