BEGIN:VCALENDAR
PRODID:NingEventWidget-v1
VERSION:2.0
METHOD:PUBLISH
BEGIN:VTIMEZONE
TZID:America/Detroit
X-LIC-LOCATION:America/Detroit
BEGIN:DAYLIGHT
TZOFFSETFROM:-0500
TZOFFSETTO:-0400
TZNAME:EDT
DTSTART:19700308T020000
RRULE:FREQ=YEARLY;BYMONTH=3;BYDAY=2SU
END:DAYLIGHT
BEGIN:STANDARD
TZOFFSETFROM:-0400
TZOFFSETTO:-0500
TZNAME:EST
DTSTART:19701101T020000
RRULE:FREQ=YEARLY;BYMONTH=11;BYDAY=1SU
END:STANDARD
END:VTIMEZONE
BEGIN:VEVENT
UID:1773158:Event:61928
DTSTAMP:20260425T141606Z
SUMMARY:NCCP Multi-sport Part B
DESCRIPTION:An excellent way for Instructors and Coaches to earn updat
 ing hours. Earn up to 12 hours of updating for attending this full 2-d
 ay workshop, as well as earning your NCCP B Certificate of Completion,
  a prerequisite for all Coach 2 candidates. Includes: Designing A Basi
 c Sport Program, Teaching and Learning, Basic Mental Skills\nCOST: $80
 .00/day + GST\n\nFor more information visit http://www.barnmice.com/ev
 ents/nccp-multisport-part-b
DTSTART;TZID=America/Detroit:20090214T090000
DTEND;TZID=America/Detroit:20090215T160000
CATEGORIES:clinic
LOCATION:Newmarket - Pulsars Gymnastics
WEBSITE:
URL:
CONTACT:519-940-0048
ORGANIZER;CN="MH Lessard":http://www.barnmice.com/profile/MHLessard
ATTACH;FMTTYPE="image/jpeg":http://storage.ning.com/topology/rest/1.0/
 file/get/2248643869?profile=original
ATTENDEE;ROLE=REQ-PARTICIPANT;PARTSTAT=ACCEPTED;RSVP=TRUE;CN="MH Lessa
 rd":http://www.barnmice.com/profile/MHLessard
END:VEVENT
END:VCALENDAR
