BEGIN:VCALENDAR
PRODID:NingEventWidget-v1
VERSION:2.0
METHOD:PUBLISH
BEGIN:VTIMEZONE
TZID:America/Detroit
X-LIC-LOCATION:America/Detroit
BEGIN:DAYLIGHT
TZOFFSETFROM:-0500
TZOFFSETTO:-0400
TZNAME:EDT
DTSTART:19700308T020000
RRULE:FREQ=YEARLY;BYMONTH=3;BYDAY=2SU
END:DAYLIGHT
BEGIN:STANDARD
TZOFFSETFROM:-0400
TZOFFSETTO:-0500
TZNAME:EST
DTSTART:19701101T020000
RRULE:FREQ=YEARLY;BYMONTH=11;BYDAY=1SU
END:STANDARD
END:VTIMEZONE
BEGIN:VEVENT
UID:1773158:Event:72133
DTSTAMP:20260425T172946Z
SUMMARY:OEF Industry Council Presents - Marketing In Hard Times
DESCRIPTION:The Ontario Equestrian Federation Industry Advisory Counci
 l invites you to join use at the Can-Am All Breeds Equine Emporium for
  a special morning presentation...\n\nMarketing in Hard Times\n\nMany 
 businesses are experiencing turbulent times due to our current economi
 c situation but there are many practices that you can employ as a busi
 ness owner and/or marketer to ensure your business sees it through. Th
 is interactive session will explore various marketing strategies to he
 lp your business survive this troubled economic period.\n\nWhere: West
 ern Fair Agriplex, London ON\nWhen: Friday March 20, 2009\nTime: 7:30 
 am - 8:30 am\nCost: FREE!!\n\nPresented by Professor Ken Hardy, PhD\n\
 nKen Hardy is Professor Emeritus, Marketing but he continues to teach 
 Entrepreneurial Marketing and Learning From Leaders at the Richard Ive
 y School of Business. Prior to joining the Ivey business School he wor
 ked for Procter and Gamble and Daymond Company in Canada. He earned an
  MBA and PhD from the University of Michigan and has taught at Michiga
 n, NEMI in Oslo, INSEAD in Fontainebleau, as well as short programs at
  Darden, Penn State, York, Banff School and the University College Cor
 k.\n\nHis research interests evolved from strategic market planning to
  the management of sales promotions, to management of distribution cha
 ins and to managing the\ncomplexities of fast-growing entrepreneurial 
 firms. He has been the lead author of five books and he has published 
 articles in the Harvard Business Review, Journal of Marketing and many
  other journals. He has written more than 130 cases that are used in m
 anagement development programs around the world.\n\nIn addition, Dr. H
 ardy is a keen horseman who has been involved in both Western and Engl
 ish disciplines, low goal polo and hunting. He now enjoys hacking from
  his farm near London whenever the opportunity occurs.\n\nEveryone is 
 welcome! There is no charge to attend; however, meeting space is limit
 ed so your RSVP is requested. Please contact Melissa Monardo by email 
 marketing@horse.on.ca or by telephone 1-877-441-7112 or 905-709-6545.\
 n\nFor more information visit http://www.barnmice.com/events/oef-indus
 try-council-presents
DTSTART;TZID=America/Detroit:20090320T073000
DTEND;TZID=America/Detroit:20090320T083000
CATEGORIES:free, presentation
LOCATION:Can-Am All Breeds Equine Emporium, Western Fair Agriplex
WEBSITE:http://www.horse.on.ca/files/Can-Am%20Presentation%20-%20Marke
 ting%20in%20Hard%20Times.pdf
URL:http://www.horse.on.ca/files/Can-Am%20Presentation%20-%20Marketing
 %20in%20Hard%20Times.pdf
CONTACT:1-877-441-7112 or 905-709-6545
ORGANIZER;CN=OEF:http://www.barnmice.com/profile/MelissaMonardo
ATTACH;FMTTYPE="image/jpeg":http://storage.ning.com/topology/rest/1.0/
 file/get/2159783470?profile=original
ATTENDEE;ROLE=REQ-PARTICIPANT;PARTSTAT=ACCEPTED;RSVP=TRUE;CN=OEF:http:
 //www.barnmice.com/profile/MelissaMonardo
END:VEVENT
END:VCALENDAR
