BEGIN:VCALENDAR
PRODID:NingEventWidget-v1
VERSION:2.0
METHOD:PUBLISH
BEGIN:VTIMEZONE
TZID:America/Detroit
X-LIC-LOCATION:America/Detroit
BEGIN:DAYLIGHT
TZOFFSETFROM:-0500
TZOFFSETTO:-0400
TZNAME:EDT
DTSTART:19700308T020000
RRULE:FREQ=YEARLY;BYMONTH=3;BYDAY=2SU
END:DAYLIGHT
BEGIN:STANDARD
TZOFFSETFROM:-0400
TZOFFSETTO:-0500
TZNAME:EST
DTSTART:19701101T020000
RRULE:FREQ=YEARLY;BYMONTH=11;BYDAY=1SU
END:STANDARD
END:VTIMEZONE
BEGIN:VEVENT
UID:1773158:Event:73547
DTSTAMP:20260425T155520Z
SUMMARY:Sport Horse Clinic
DESCRIPTION:March 21 - 2009 – Sport Horse / Dressage clinic with Nat
 ional level Judge Janet Henderson\n\nJanet is one of two people in Can
 ada (the other is in B.C.) that have graduated with distinction from t
 he United States Dressage Federation Learner judge program. Janet is a
 n AHA National/Regional judge who also is carded with Equine Canada in
  dressage, hunter, hack, jumper, hunt seat equitation, and saddle seat
  equitation. She is a lay-judge with the Ontario Competitive Trail Rid
 ers Association, judging both competitive trail and endurance rides. S
 he has had the opportunity to judge at Canadian Nationals, many Region
 al shows, and in 2007, judged the Canadian National Competitive Trail 
 Ride Championships . $55 for participants $10 for auditors. Contact Wa
 lt Mantler for full details.\n\nSymphony Stables 778 County Road 37 Wh
 eatley Ontario\n\nFor more information visit http://www.barnmice.com/e
 vents/sport-horse-clinic
DTSTART;TZID=America/Detroit:20090321T000000
DTEND;TZID=America/Detroit:20090321T235900
CATEGORIES:sport, horse, clinic
LOCATION:Symphony Stables
WEBSITE:http://symphonystables.com
URL:http://symphonystables.com
CONTACT:1-877-825-8708
ORGANIZER;CN="Gisela & Walter Mantler":http://www.barnmice.com/profile
 /GiselaWalterMantler
ATTACH;FMTTYPE="image/jpeg":http://storage.ning.com/topology/rest/1.0/
 file/get/2248641521?profile=original
ATTENDEE;ROLE=REQ-PARTICIPANT;PARTSTAT=ACCEPTED;RSVP=TRUE;CN="Gisela &
  Walter Mantler":http://www.barnmice.com/profile/GiselaWalterMantler
END:VEVENT
END:VCALENDAR
