BEGIN:VCALENDAR
PRODID:NingEventWidget-v1
VERSION:2.0
METHOD:PUBLISH
BEGIN:VTIMEZONE
TZID:America/Detroit
X-LIC-LOCATION:America/Detroit
BEGIN:DAYLIGHT
TZOFFSETFROM:-0500
TZOFFSETTO:-0400
TZNAME:EDT
DTSTART:19700308T020000
RRULE:FREQ=YEARLY;BYMONTH=3;BYDAY=2SU
END:DAYLIGHT
BEGIN:STANDARD
TZOFFSETFROM:-0400
TZOFFSETTO:-0500
TZNAME:EST
DTSTART:19701101T020000
RRULE:FREQ=YEARLY;BYMONTH=11;BYDAY=1SU
END:STANDARD
END:VTIMEZONE
BEGIN:VEVENT
UID:1773158:Event:94250
DTSTAMP:20260424T215142Z
SUMMARY:Steffen Peters Clinic Ottawa May 1, 2, 3, 2009
DESCRIPTION:The Steffen Peters clinic consists of an evening classroom
  session May 1; and riding sessions May 2 and 3. The clinic will progr
 ess from lower to upper level horses.\nSteffen will have a microphone 
 so auditors, as well as riders will benefit from his teaching. Questio
 ns will be encouraged at the end of each ride and during the lecture. 
 Auditing hours may be accredited for 6 hours of coaching certification
 .\nSteffen will focus on the ultimate goal of dressage: developing the
  horseâ€™s self-carriage with light seat, leg and rein aids. Steffenâ€
 ™s riding philosophy and techniques have been the subject of many arti
 cles in the Dressage Today magazine. This is a unique opportunity to l
 earn from a renowned dressage trainer and international competitor.\n\
 nFor more information visit http://www.barnmice.com/events/steffen-pet
 ers-clinic-ottawa
DTSTART;TZID=America/Detroit:20090501T190000
DTEND;TZID=America/Detroit:20090503T141500
CATEGORIES:dressage, clinic
LOCATION:Ottawa, Ontario, Canada
WEBSITE:http://www.ottawadressage.ca/Calendar.php
URL:http://www.ottawadressage.ca/Calendar.php
CONTACT:613-257-5145
ORGANIZER;CN="Cathy Gordon":http://www.barnmice.com/profile/CathyGordo
 n
ATTACH;FMTTYPE="image/jpeg":
ATTENDEE;ROLE=REQ-PARTICIPANT;PARTSTAT=ACCEPTED;RSVP=TRUE;CN="Cathy Go
 rdon":http://www.barnmice.com/profile/CathyGordon
END:VEVENT
END:VCALENDAR
