BEGIN:VCALENDAR
PRODID:NingEventWidget-v1
VERSION:2.0
METHOD:PUBLISH
BEGIN:VTIMEZONE
TZID:America/Detroit
X-LIC-LOCATION:America/Detroit
BEGIN:DAYLIGHT
TZOFFSETFROM:-0500
TZOFFSETTO:-0400
TZNAME:EDT
DTSTART:19700308T020000
RRULE:FREQ=YEARLY;BYMONTH=3;BYDAY=2SU
END:DAYLIGHT
BEGIN:STANDARD
TZOFFSETFROM:-0400
TZOFFSETTO:-0500
TZNAME:EST
DTSTART:19701101T020000
RRULE:FREQ=YEARLY;BYMONTH=11;BYDAY=1SU
END:STANDARD
END:VTIMEZONE
BEGIN:VEVENT
UID:1773158:Event:59720
DTSTAMP:20260425T141607Z
SUMMARY:Surround Sound: An informed look at equine dental, lameness an
 d respiratory issues
DESCRIPTION:What do you really know about proper equine dental care an
 d your horse’s overall way of going? And what about respiratory dist
 ress? Explore this and more with veterinarian and equine dental specia
 list, Dr. Brian Van Arem. PLUS! Uncover some of the mysteries of lamen
 ess!\n\nThis event eligible for coaching updating hours\n\nCost: CADOR
 A members $15; Non-members: $20\nToronto CADORA memberships available 
 online or at the door\nSpace is limited! Guarantee your spot in advanc
 e at events.tc@torontocadora.com\nPayPal available soon at www.toronto
 cadora.com\n\nDoor prizes generously donated by\nYork Saddlery and Har
 ness and\nOmega Alpha Pharmaceutical\n\nFor more information visit htt
 p://www.barnmice.com/events/surround-sound-an-informed
DTSTART;TZID=America/Detroit:20090221T190000
DTEND;TZID=America/Detroit:20090221T220000
CATEGORIES:seminar, social
LOCATION:Pine Ridge
WEBSITE:http://www.torontocadora.com
URL:http://www.torontocadora.com
CONTACT:Pam Hope at 905.642.2865
ORGANIZER:Toronto CADORA
ATTACH;FMTTYPE="image/jpeg":http://storage.ning.com/topology/rest/1.0/
 file/get/2248641910?profile=original
ATTENDEE;ROLE=REQ-PARTICIPANT;PARTSTAT=ACCEPTED;RSVP=TRUE;CN="Dorothy 
 McDonall":http://www.barnmice.com/profile/DorothyChiotti
END:VEVENT
END:VCALENDAR
