BEGIN:VCALENDAR
PRODID:NingEventWidget-v1
VERSION:2.0
METHOD:PUBLISH
BEGIN:VTIMEZONE
TZID:America/Detroit
X-LIC-LOCATION:America/Detroit
BEGIN:DAYLIGHT
TZOFFSETFROM:-0500
TZOFFSETTO:-0400
TZNAME:EDT
DTSTART:19700308T020000
RRULE:FREQ=YEARLY;BYMONTH=3;BYDAY=2SU
END:DAYLIGHT
BEGIN:STANDARD
TZOFFSETFROM:-0400
TZOFFSETTO:-0500
TZNAME:EST
DTSTART:19701101T020000
RRULE:FREQ=YEARLY;BYMONTH=11;BYDAY=1SU
END:STANDARD
END:VTIMEZONE
BEGIN:VEVENT
UID:1773158:Event:96165
DTSTAMP:20260424T112842Z
SUMMARY:Tack Sale
DESCRIPTION:Tack sale ...britches..blankets ..bridles...etc\n\nFor mor
 e information visit http://www.barnmice.com/events/tack-sale
DTSTART;TZID=America/Detroit:20090510T000000
DTEND;TZID=America/Detroit:20090510T235900
CATEGORIES:sports
LOCATION:Wedgewood Farms
WEBSITE:http://www.wedgewoodfarms.org
URL:http://www.wedgewoodfarms.org
CONTACT:604 782 4403
ORGANIZER:Wedgewood Farms
ATTACH;FMTTYPE="image/jpeg":http://storage.ning.com/topology/rest/1.0/
 file/get/2248649589?profile=original
ATTENDEE;ROLE=REQ-PARTICIPANT;PARTSTAT=ACCEPTED;RSVP=TRUE;CN="Josephin
 e Brouwer":http://www.barnmice.com/profile/JosephineBrouwer
END:VEVENT
END:VCALENDAR
