BEGIN:VCALENDAR
PRODID:NingEventWidget-v1
VERSION:2.0
METHOD:PUBLISH
BEGIN:VTIMEZONE
TZID:America/Detroit
X-LIC-LOCATION:America/Detroit
BEGIN:DAYLIGHT
TZOFFSETFROM:-0500
TZOFFSETTO:-0400
TZNAME:EDT
DTSTART:19700308T020000
RRULE:FREQ=YEARLY;BYMONTH=3;BYDAY=2SU
END:DAYLIGHT
BEGIN:STANDARD
TZOFFSETFROM:-0400
TZOFFSETTO:-0500
TZNAME:EST
DTSTART:19701101T020000
RRULE:FREQ=YEARLY;BYMONTH=11;BYDAY=1SU
END:STANDARD
END:VTIMEZONE
BEGIN:VEVENT
UID:1773158:Event:91653
DTSTAMP:20260424T115103Z
SUMMARY:Tent Sale & LIve Retail Auction
DESCRIPTION:BIG TENT SALE & LIVE AUCTION\nHazleton, PA on May 8th, 9th
  and 10th\n\nFriday - 9:00am to 5:00pm\nSaturday - 9:00am to 5:00pm\nS
 unday - 10:00am to 4:00pm\n\nFeaturing:\n- Over 100 Brand Name Closeou
 t Products available at up to 50% OFF\n- SAVE 20-30% OFF all Health Ca
 re Products\n- LIVE Retail Auction on Saturday, May 9th. Registration 
 starts at 10:00am. Live Auction starting at 11:00am\n(Bring your own g
 oods to sell or bid on something here).\n- Wahl Clipper Demonstrations
  all weekend\n- Rio Vista Equine & Dog Demonstrations all weekend\n- 4
 H and Pony Club Discount Cards NOW Available\n\nBring your pets…we h
 ave an expanded pet section in our store too.\n\nWe will be featuring 
 HUGE SAVINGS on a number of new products,\nPRIZES, FREE DRAWING for an
 other $250.00 Gift Certificate to HORSELOVERZ.COM,\nplus coupons and f
 ree give-aways. Food will be available. Please come visit us.\n\nHORSE
 LOVERZ.COM PREMIUM Outlet Store\nOpen to the Public!\n254 North Cedar 
 Street\nHazleton, PA 18201\n\nQUESTIONS? Email us at tentsale@horselov
 erz.com\n\nFor more information visit http://www.barnmice.com/events/t
 ent-sale-live-retail-auction
DTSTART;TZID=America/Detroit:20090508T090000
DTEND;TZID=America/Detroit:20090510T160000
CATEGORIES:tent, sale, "&", live, retail, auction
LOCATION:Hazleton, PA
WEBSITE:http://www.horseloverz.com/retailstore.php
URL:http://www.horseloverz.com/retailstore.php
CONTACT:570-579-0026
ORGANIZER;CN="HORSELOVERZ.COM":http://www.barnmice.com/profile/HORSELO
 VERZCOM
ATTACH;FMTTYPE="image/jpeg":
ATTENDEE;ROLE=REQ-PARTICIPANT;PARTSTAT=ACCEPTED;RSVP=TRUE;CN="HORSELOV
 ERZ.COM":http://www.barnmice.com/profile/HORSELOVERZCOM
END:VEVENT
END:VCALENDAR
