BEGIN:VCALENDAR
PRODID:NingEventWidget-v1
VERSION:2.0
METHOD:PUBLISH
BEGIN:VTIMEZONE
TZID:America/Detroit
X-LIC-LOCATION:America/Detroit
BEGIN:DAYLIGHT
TZOFFSETFROM:-0500
TZOFFSETTO:-0400
TZNAME:EDT
DTSTART:19700308T020000
RRULE:FREQ=YEARLY;BYMONTH=3;BYDAY=2SU
END:DAYLIGHT
BEGIN:STANDARD
TZOFFSETFROM:-0400
TZOFFSETTO:-0500
TZNAME:EST
DTSTART:19701101T020000
RRULE:FREQ=YEARLY;BYMONTH=11;BYDAY=1SU
END:STANDARD
END:VTIMEZONE
BEGIN:VEVENT
UID:1773158:Event:86886
DTSTAMP:20260425T075142Z
SUMMARY:The Mane Event, Equine Education & Trade Fair
DESCRIPTION:Over 100 hours of equine education in the form of clinics,
  presentations & demos. Clinicians include Jay Hayes (Jumping), Al Dun
 ning (Cutting, Reining & Horsemanship), Dana Hokana (WP and Horsemansh
 ip), Jonathan Field (Horsemanship), GiGi Bailey (HUS & Equitation), Ha
 rdy Zantke (Driving), Robyn Hood (TTEAM & TTouch), Bobby Richards (Gai
 ted Horses), Mette Rosencrantz (Dressage) and Gary Leffew (Bull Riding
 ) plus sessions on equine nutrition, saddle fitting, digital equine im
 aging, equine dentistry and much more. Visit www.maneeventexpo.com for
  details including ticket information, clinician's bios and a schedule
  of events.\n\nFor more information visit http://www.barnmice.com/even
 ts/the-mane-event-equine
DTSTART;TZID=America/Detroit:20090424T110000
DTEND;TZID=America/Detroit:20090426T180000
CATEGORIES:equine, education, -, clinics, demos, and, presentations
LOCATION:Westerner Park, Red Deer, Alberta
WEBSITE:http://www.maneeventexpo.com
URL:http://www.maneeventexpo.com
CONTACT:(250) 578-7518
ORGANIZER:
ATTACH;FMTTYPE="image/jpeg":
ATTENDEE;ROLE=REQ-PARTICIPANT;PARTSTAT=ACCEPTED;RSVP=TRUE;CN="Riley Ma
 stardo":http://www.barnmice.com/profile/RileyMastardo
ATTENDEE;ROLE=REQ-PARTICIPANT;PARTSTAT=ACCEPTED;RSVP=TRUE;CN="Terry Ho
 ldstock":http://www.barnmice.com/profile/TerryHoldstock
ATTENDEE;ROLE=REQ-PARTICIPANT;PARTSTAT=ACCEPTED;RSVP=TRUE;CN="Gail Bar
 ker":http://www.barnmice.com/profile/GailBarker
END:VEVENT
END:VCALENDAR
