BEGIN:VCALENDAR
PRODID:NingEventWidget-v1
VERSION:2.0
METHOD:PUBLISH
BEGIN:VTIMEZONE
TZID:America/Detroit
X-LIC-LOCATION:America/Detroit
BEGIN:DAYLIGHT
TZOFFSETFROM:-0500
TZOFFSETTO:-0400
TZNAME:EDT
DTSTART:19700308T020000
RRULE:FREQ=YEARLY;BYMONTH=3;BYDAY=2SU
END:DAYLIGHT
BEGIN:STANDARD
TZOFFSETFROM:-0400
TZOFFSETTO:-0500
TZNAME:EST
DTSTART:19701101T020000
RRULE:FREQ=YEARLY;BYMONTH=11;BYDAY=1SU
END:STANDARD
END:VTIMEZONE
BEGIN:VEVENT
UID:1773158:Event:244589
DTSTAMP:20260425T172946Z
SUMMARY:Triple T Stables Open House
DESCRIPTION:Triple T Stables is happy to have their Open House on June
  26 from 10 am to 5 pm. Refreshments will be served! We are located at
  the corner of Wilmot Line and Berletts Rd -less than 7 minutes from t
 he University of Waterloo and 2 minutes from Sir John A MacDonald Scho
 ol.\nPlease contact RoseAnn Carey at 519-505-5673 or email info@triple
 tstables.com\n\nFor more information visit http://www.barnmice.com/eve
 nts/triple-t-stables-open-house
DTSTART;TZID=America/Detroit:20100626T100000
DTEND;TZID=America/Detroit:20100626T170000
CATEGORIES:open, house
LOCATION:Located 5 minutes from Waterloo Ontario
WEBSITE:http://www.tripletstables.com
URL:http://www.tripletstables.com
CONTACT:519-505-5673
ORGANIZER:RoseAnn Carey
ATTACH;FMTTYPE="image/jpeg":http://storage.ning.com/topology/rest/1.0/
 file/get/2248691929?profile=original
ATTENDEE;ROLE=REQ-PARTICIPANT;PARTSTAT=ACCEPTED;RSVP=TRUE;CN="Norma Mc
 Donald":http://www.barnmice.com/profile/NormaMcDonald
END:VEVENT
END:VCALENDAR
