BEGIN:VCALENDAR
PRODID:NingEventWidget-v1
VERSION:2.0
METHOD:PUBLISH
BEGIN:VTIMEZONE
TZID:America/Detroit
X-LIC-LOCATION:America/Detroit
BEGIN:DAYLIGHT
TZOFFSETFROM:-0500
TZOFFSETTO:-0400
TZNAME:EDT
DTSTART:19700308T020000
RRULE:FREQ=YEARLY;BYMONTH=3;BYDAY=2SU
END:DAYLIGHT
BEGIN:STANDARD
TZOFFSETFROM:-0400
TZOFFSETTO:-0500
TZNAME:EST
DTSTART:19701101T020000
RRULE:FREQ=YEARLY;BYMONTH=11;BYDAY=1SU
END:STANDARD
END:VTIMEZONE
BEGIN:VEVENT
UID:1773158:Event:68775
DTSTAMP:20260425T192352Z
SUMMARY:Women in the Company of Horses
DESCRIPTION:For any woman who is inspired by the beauty, elegance and 
 magnificence of horses, feels a connection with them or wants to rekin
 dle her passion for riding ...\n\nEnjoy a brief retreat from the stres
 s of your regular life. Spend a relaxing day learning about & interact
 ing with horses on a beautiful 125 acre private horse farm.\n\nLearn a
 bout horse language & psychology and how to create relationships built
  on mutual trust & respect.\n\nEnjoy home cooked muffins & lunch in th
 e renovated farm house.\n\nEnd the day with a guided meditation - \"Qu
 iet Mind Quiet Horse\".\n\nFor more information visit http://www.barnm
 ice.com/events/women-in-the-company-of-horses
DTSTART;TZID=America/Detroit:20090418T093000
DTEND;TZID=America/Detroit:20090418T173000
CATEGORIES:workshop, clinic, retreat
LOCATION:Amaranth Farms
WEBSITE:http://www.amaranthfarms.com
URL:http://www.amaranthfarms.com
CONTACT:519 943 1407
ORGANIZER;CN="Anne Gage":http://www.barnmice.com/profile/AnneGage
ATTACH;FMTTYPE="image/jpeg":http://storage.ning.com/topology/rest/1.0/
 file/get/2248644595?profile=original
ATTENDEE;ROLE=REQ-PARTICIPANT;PARTSTAT=ACCEPTED;RSVP=TRUE;CN="Anne Gag
 e":http://www.barnmice.com/profile/AnneGage
ATTENDEE;ROLE=REQ-PARTICIPANT;PARTSTAT=TENTATIVE;RSVP=TRUE;CN="Ann Cra
 go":http://www.barnmice.com/profile/AnnCragoismyname
END:VEVENT
END:VCALENDAR
